BEGIN:VCALENDAR
VERSION:2.0
PRODID:-//Société de développement économique du Saint-Laurent - ECPv6.15.20//NONSGML v1.0//EN
CALSCALE:GREGORIAN
METHOD:PUBLISH
X-WR-CALNAME:Société de développement économique du Saint-Laurent
X-ORIGINAL-URL:https://st-laurent.org
X-WR-CALDESC:Évènements pour Société de développement économique du Saint-Laurent
REFRESH-INTERVAL;VALUE=DURATION:PT1H
X-Robots-Tag:noindex
X-PUBLISHED-TTL:PT1H
BEGIN:VTIMEZONE
TZID:America/Toronto
BEGIN:DAYLIGHT
TZOFFSETFROM:-0500
TZOFFSETTO:-0400
TZNAME:EDT
DTSTART:20250309T070000
END:DAYLIGHT
BEGIN:STANDARD
TZOFFSETFROM:-0400
TZOFFSETTO:-0500
TZNAME:EST
DTSTART:20251102T060000
END:STANDARD
BEGIN:DAYLIGHT
TZOFFSETFROM:-0500
TZOFFSETTO:-0400
TZNAME:EDT
DTSTART:20260308T070000
END:DAYLIGHT
BEGIN:STANDARD
TZOFFSETFROM:-0400
TZOFFSETTO:-0500
TZNAME:EST
DTSTART:20261101T060000
END:STANDARD
BEGIN:DAYLIGHT
TZOFFSETFROM:-0500
TZOFFSETTO:-0400
TZNAME:EDT
DTSTART:20270314T070000
END:DAYLIGHT
BEGIN:STANDARD
TZOFFSETFROM:-0400
TZOFFSETTO:-0500
TZNAME:EST
DTSTART:20271107T060000
END:STANDARD
END:VTIMEZONE
BEGIN:VEVENT
DTSTART;TZID=America/Toronto:20260310T083000
DTEND;TZID=America/Toronto:20260310T153000
DTSTAMP:20260418T004944
CREATED:20260218T154616Z
LAST-MODIFIED:20260218T154616Z
UID:26968-1773131400-1773156600@st-laurent.org
SUMMARY:Transport maritime : un levier stratégique pour diversifier vos marchés
DESCRIPTION:Une journée immersive au cœur du Port de Montréal! \nVéritable plateforme d’échanges internationaux\, le Port de Montréal représente un atout majeur pour les entreprises souhaitant développer de nouveaux marchés. \nComprendre le fonctionnement du transport maritime\, ses coûts\, ses délais\, ses routes\, ses acteurs dont le Port qui joue un rôle central dans la chaîne logistique\, est indispensable pour optimiser ses exportations. Cette formation immersive d’une journée vous offre l’occasion de démystifier\, directement sur le terrain\, un acteur clé de la logistique mondiale. Vous y découvrirez comment tirer parti de ce maillon stratégique pour améliorer votre compétitivité et soutenir votre expansion internationale. \nCe qui rend cette formation unique\n• Une approche concrète : compréhension réelle du transport maritime\, du conteneur jusqu’au client final\n• Une vision stratégique : identification des routes\, marchés et lignes maritimes à potentiel pour les exportateurs.\n• Une immersion terrain : visite et immersion dans les installations portuaires de Port de Montréal.\n• Des bénéfices immédiats : outils et connaissances directement utilisables dans votre stratégie d’exportation. \nAu programme\n1. Du port au client : tout savoir sur le transport maritime\nActeurs\, coûts\, délais et mécanismes qui structurent l’expédition d’un conteneur.\n2. Votre stratégie internationale commence au Port de Montréal\nComprendre comment les décisions logistiques orientent vos opportunités de marchés.\n3. Explorer les coulisses du Port de Montréal \nUne expérience terrain pour saisir concrètement le rôle de cet acteur dans votre chaine logistique globale. \nObjectifs de la journée de formation\n• Maîtriser l’ensemble de la chaîne logistique maritime.\n• Identifier les acteurs impliqués\, les coûts\, les délais et leurs impacts directs sur vos activités.\n• Déterminer des axes de diversification de marchés pertinents.
URL:https://st-laurent.org/evenement/transport-maritime-un-levier-strategique-pour-diversifier-vos-marches/
LOCATION:Port de Montréal\, 2100\, avenue Pierre-Dupuy\, Montréal\, Québec\, H3C 3R5\, Canada
CATEGORIES:Calendrier de l'industrie
ORGANIZER;CN="Chambre de commerce de l'Est de Montr%C3%A9al":MAILTO:info@ccemontreal.ca
END:VEVENT
END:VCALENDAR