BEGIN:VCALENDAR
VERSION:2.0
PRODID:-//Société de développement économique du Saint-Laurent - ECPv6.15.20//NONSGML v1.0//EN
CALSCALE:GREGORIAN
METHOD:PUBLISH
X-WR-CALNAME:Société de développement économique du Saint-Laurent
X-ORIGINAL-URL:https://st-laurent.org
X-WR-CALDESC:Évènements pour Société de développement économique du Saint-Laurent
REFRESH-INTERVAL;VALUE=DURATION:PT1H
X-Robots-Tag:noindex
X-PUBLISHED-TTL:PT1H
BEGIN:VTIMEZONE
TZID:America/Toronto
BEGIN:DAYLIGHT
TZOFFSETFROM:-0500
TZOFFSETTO:-0400
TZNAME:EDT
DTSTART:20240310T070000
END:DAYLIGHT
BEGIN:STANDARD
TZOFFSETFROM:-0400
TZOFFSETTO:-0500
TZNAME:EST
DTSTART:20241103T060000
END:STANDARD
BEGIN:DAYLIGHT
TZOFFSETFROM:-0500
TZOFFSETTO:-0400
TZNAME:EDT
DTSTART:20250309T070000
END:DAYLIGHT
BEGIN:STANDARD
TZOFFSETFROM:-0400
TZOFFSETTO:-0500
TZNAME:EST
DTSTART:20251102T060000
END:STANDARD
BEGIN:DAYLIGHT
TZOFFSETFROM:-0500
TZOFFSETTO:-0400
TZNAME:EDT
DTSTART:20260308T070000
END:DAYLIGHT
BEGIN:STANDARD
TZOFFSETFROM:-0400
TZOFFSETTO:-0500
TZNAME:EST
DTSTART:20261101T060000
END:STANDARD
END:VTIMEZONE
BEGIN:VEVENT
DTSTART;VALUE=DATE:20250219
DTEND;VALUE=DATE:20250220
DTSTAMP:20260420T111800
CREATED:20240930T190327Z
LAST-MODIFIED:20240930T190343Z
UID:20250-1739923200-1740009599@st-laurent.org
SUMMARY:Atelier réglementaire sur le Règlement sur le personnel maritime (RPM)
DESCRIPTION:Description à venir \nFormulaire d’inscription à venir
URL:https://st-laurent.org/evenement/atelier-reglementaire-sur-le-reglement-sur-le-personnel-maritime-rpm/
LOCATION:Hôtel Québec\, 3115 Av. des Hôtels\, Québec\, Québec\, G1W 3Z6\, Canada
CATEGORIES:Calendrier de l'industrie
ORGANIZER;CN="Comit%C3%A9 sectoriel de main-d'oeuvre de l'industrie maritime":MAILTO:maritime@csmoim.qc.ca
END:VEVENT
END:VCALENDAR